BEGIN:VCALENDAR
VERSION:2.0
PRODID:-//eventon.com NONSGML v1.0//EN
CALSCALE:GREGORIAN
METHOD:PUBLISH
BEGIN:VEVENT
UID:69e83097a4df8
DTSTAMP:20260422T022111Z
DTSTART:20280517T160000Z
DTEND:20280518T055900Z
LOCATION:Public Trustee's office 109 8th Street\,  Suite 204 Glenwood Springs\,  CO
SUMMARY:Foreclosure sale
DESCRIPTION:For assistance\,  please email us. View foreclosure sale lists 
 View foreclosure database Public Trustee website\nhttps://www.garfieldcount
 yco.gov/events/foreclosure-sale/var/ri-450.l-L1
URL:https://www.garfieldcountyco.gov/events/foreclosure-sale/var/ri-450.l-L1
END:VEVENT
END:VCALENDAR